BEGIN:VCALENDAR
VERSION:2.0
PRODID:-//Kulturverein Möhnesee e.V. - ECPv6.15.11//NONSGML v1.0//EN
CALSCALE:GREGORIAN
METHOD:PUBLISH
X-ORIGINAL-URL:https://kulturverein-moehnesee.de
X-WR-CALDESC:Veranstaltungen für Kulturverein Möhnesee e.V.
REFRESH-INTERVAL;VALUE=DURATION:PT1H
X-Robots-Tag:noindex
X-PUBLISHED-TTL:PT1H
BEGIN:VTIMEZONE
TZID:Europe/Berlin
BEGIN:DAYLIGHT
TZOFFSETFROM:+0100
TZOFFSETTO:+0200
TZNAME:CEST
DTSTART:20240331T010000
END:DAYLIGHT
BEGIN:STANDARD
TZOFFSETFROM:+0200
TZOFFSETTO:+0100
TZNAME:CET
DTSTART:20241027T010000
END:STANDARD
BEGIN:DAYLIGHT
TZOFFSETFROM:+0100
TZOFFSETTO:+0200
TZNAME:CEST
DTSTART:20250330T010000
END:DAYLIGHT
BEGIN:STANDARD
TZOFFSETFROM:+0200
TZOFFSETTO:+0100
TZNAME:CET
DTSTART:20251026T010000
END:STANDARD
BEGIN:DAYLIGHT
TZOFFSETFROM:+0100
TZOFFSETTO:+0200
TZNAME:CEST
DTSTART:20260329T010000
END:DAYLIGHT
BEGIN:STANDARD
TZOFFSETFROM:+0200
TZOFFSETTO:+0100
TZNAME:CET
DTSTART:20261025T010000
END:STANDARD
END:VTIMEZONE
BEGIN:VEVENT
DTSTART;TZID=Europe/Berlin:20250902T190000
DTEND;TZID=Europe/Berlin:20250902T190000
DTSTAMP:20260422T051102
CREATED:20250615T090044Z
LAST-MODIFIED:20250615T090044Z
UID:1414-1756839600-1756839600@kulturverein-moehnesee.de
SUMMARY:Abenteuer Sprache mit dem BördeAutoren Rudolf Köster
DESCRIPTION:Musikalische Begleitung: Elke Henke – Konzertgitarre
URL:https://kulturverein-moehnesee.de/event/abenteuer-sprache-mit-dem-boerdeautoren-rudolf-koester/
LOCATION:Altes Fachwerkhaus Stockebrand\, Küerbiker Str. 3\, Möhnesee\, 59519\, Deutschland
ORGANIZER;CN="Kulturverein M%C3%B6hnesee e.V.":MAILTO:info@kulturverein-moehnesee.de
END:VEVENT
BEGIN:VEVENT
DTSTART;TZID=Europe/Berlin:20250917T143000
DTEND;TZID=Europe/Berlin:20250917T143000
DTSTAMP:20260422T051102
CREATED:20250615T090318Z
LAST-MODIFIED:20250615T090318Z
UID:1416-1758119400-1758119400@kulturverein-moehnesee.de
SUMMARY:Exkursion zum Glaselefanten und Maxipark in Hamm
DESCRIPTION:Führung und Erläuterung durch den Künstler Dr. Horst Rellecke \nDetails bei Voranmeldung bei Angelika v. Tolkacz\, Tel. 02924 8767871
URL:https://kulturverein-moehnesee.de/event/exkursion-zum-glaselefanten-und-maxipark-in-hamm/
ORGANIZER;CN="Kulturverein M%C3%B6hnesee e.V.":MAILTO:info@kulturverein-moehnesee.de
END:VEVENT
END:VCALENDAR