BEGIN:VCALENDAR
VERSION:2.0
PRODID:-//Kulturverein Möhnesee e.V. - ECPv6.15.11//NONSGML v1.0//EN
CALSCALE:GREGORIAN
METHOD:PUBLISH
X-ORIGINAL-URL:https://kulturverein-moehnesee.de
X-WR-CALDESC:Veranstaltungen für Kulturverein Möhnesee e.V.
REFRESH-INTERVAL;VALUE=DURATION:PT1H
X-Robots-Tag:noindex
X-PUBLISHED-TTL:PT1H
BEGIN:VTIMEZONE
TZID:Europe/Berlin
BEGIN:DAYLIGHT
TZOFFSETFROM:+0100
TZOFFSETTO:+0200
TZNAME:CEST
DTSTART:20240331T010000
END:DAYLIGHT
BEGIN:STANDARD
TZOFFSETFROM:+0200
TZOFFSETTO:+0100
TZNAME:CET
DTSTART:20241027T010000
END:STANDARD
BEGIN:DAYLIGHT
TZOFFSETFROM:+0100
TZOFFSETTO:+0200
TZNAME:CEST
DTSTART:20250330T010000
END:DAYLIGHT
BEGIN:STANDARD
TZOFFSETFROM:+0200
TZOFFSETTO:+0100
TZNAME:CET
DTSTART:20251026T010000
END:STANDARD
BEGIN:DAYLIGHT
TZOFFSETFROM:+0100
TZOFFSETTO:+0200
TZNAME:CEST
DTSTART:20260329T010000
END:DAYLIGHT
BEGIN:STANDARD
TZOFFSETFROM:+0200
TZOFFSETTO:+0100
TZNAME:CET
DTSTART:20261025T010000
END:STANDARD
END:VTIMEZONE
BEGIN:VEVENT
DTSTART;TZID=Europe/Berlin:20250401T183000
DTEND;TZID=Europe/Berlin:20250401T183000
DTSTAMP:20260422T125903
CREATED:20241208T115808Z
LAST-MODIFIED:20241208T115808Z
UID:1321-1743532200-1743532200@kulturverein-moehnesee.de
SUMMARY:Die Bedrohung von Flora und Fauna
DESCRIPTION:Die Bedrohung von Flora und Fauna \ndargestellt und erläutert anhand eigener Kunstwerke durch Dr. Benno Dalhoff
URL:https://kulturverein-moehnesee.de/event/die-bedrohung-von-flora-und-fauna/
LOCATION:Altes Fachwerkhaus Stockebrand\, Küerbiker Str. 3\, Möhnesee\, 59519\, Deutschland
ORGANIZER;CN="Kulturverein M%C3%B6hnesee e.V.":MAILTO:info@kulturverein-moehnesee.de
END:VEVENT
BEGIN:VEVENT
DTSTART;TZID=Europe/Berlin:20250409T190000
DTEND;TZID=Europe/Berlin:20250409T190000
DTSTAMP:20260422T125903
CREATED:20250221T155147Z
LAST-MODIFIED:20250221T155147Z
UID:1340-1744225200-1744225200@kulturverein-moehnesee.de
SUMMARY:Jazziges im Stockebrandhaus
DESCRIPTION:Musik mit Christoph & Michael Winkelmann\nHelmut & Johannes Reimer\nZwischentexte: Christa Maria Marpert
URL:https://kulturverein-moehnesee.de/event/jazziges-im-stockebrandhaus/
LOCATION:Altes Fachwerkhaus Stockebrand\, Küerbiker Str. 3\, Möhnesee\, 59519\, Deutschland
ORGANIZER;CN="Kulturverein M%C3%B6hnesee e.V.":MAILTO:info@kulturverein-moehnesee.de
END:VEVENT
END:VCALENDAR