BEGIN:VCALENDAR
VERSION:2.0
PRODID:-//Kulturverein Möhnesee e.V. - ECPv6.15.11//NONSGML v1.0//EN
CALSCALE:GREGORIAN
METHOD:PUBLISH
X-WR-CALNAME:Kulturverein Möhnesee e.V.
X-ORIGINAL-URL:https://kulturverein-moehnesee.de
X-WR-CALDESC:Veranstaltungen für Kulturverein Möhnesee e.V.
REFRESH-INTERVAL;VALUE=DURATION:PT1H
X-Robots-Tag:noindex
X-PUBLISHED-TTL:PT1H
BEGIN:VTIMEZONE
TZID:Europe/Berlin
BEGIN:DAYLIGHT
TZOFFSETFROM:+0100
TZOFFSETTO:+0200
TZNAME:CEST
DTSTART:20230326T010000
END:DAYLIGHT
BEGIN:STANDARD
TZOFFSETFROM:+0200
TZOFFSETTO:+0100
TZNAME:CET
DTSTART:20231029T010000
END:STANDARD
BEGIN:DAYLIGHT
TZOFFSETFROM:+0100
TZOFFSETTO:+0200
TZNAME:CEST
DTSTART:20240331T010000
END:DAYLIGHT
BEGIN:STANDARD
TZOFFSETFROM:+0200
TZOFFSETTO:+0100
TZNAME:CET
DTSTART:20241027T010000
END:STANDARD
BEGIN:DAYLIGHT
TZOFFSETFROM:+0100
TZOFFSETTO:+0200
TZNAME:CEST
DTSTART:20250330T010000
END:DAYLIGHT
BEGIN:STANDARD
TZOFFSETFROM:+0200
TZOFFSETTO:+0100
TZNAME:CET
DTSTART:20251026T010000
END:STANDARD
END:VTIMEZONE
BEGIN:VEVENT
DTSTART;TZID=Europe/Berlin:20240630T150000
DTEND;TZID=Europe/Berlin:20240630T150000
DTSTAMP:20260423T051748
CREATED:20240310T163157Z
LAST-MODIFIED:20240310T163229Z
UID:1098-1719759600-1719759600@kulturverein-moehnesee.de
SUMMARY:Tanzgruppe „Arirang“
DESCRIPTION:Traditioneller koreanischer Tanz\nHae Sook Schäfer &Friends \nEintritt frei\, Spende erwünscht
URL:https://kulturverein-moehnesee.de/event/tanzgruppe-arirang-2/
LOCATION:Ludwig Kleffmann Haus\, Kirchplatz 8\, Möhnesee\, 59519
ORGANIZER;CN="Kulturverein M%C3%B6hnesee e.V.":MAILTO:info@kulturverein-moehnesee.de
END:VEVENT
END:VCALENDAR