BEGIN:VCALENDAR
VERSION:2.0
PRODID:-//Kulturverein Möhnesee e.V. - ECPv6.15.11//NONSGML v1.0//EN
CALSCALE:GREGORIAN
METHOD:PUBLISH
X-ORIGINAL-URL:https://kulturverein-moehnesee.de
X-WR-CALDESC:Veranstaltungen für Kulturverein Möhnesee e.V.
REFRESH-INTERVAL;VALUE=DURATION:PT1H
X-Robots-Tag:noindex
X-PUBLISHED-TTL:PT1H
BEGIN:VTIMEZONE
TZID:Europe/Berlin
BEGIN:DAYLIGHT
TZOFFSETFROM:+0100
TZOFFSETTO:+0200
TZNAME:CEST
DTSTART:20230326T010000
END:DAYLIGHT
BEGIN:STANDARD
TZOFFSETFROM:+0200
TZOFFSETTO:+0100
TZNAME:CET
DTSTART:20231029T010000
END:STANDARD
BEGIN:DAYLIGHT
TZOFFSETFROM:+0100
TZOFFSETTO:+0200
TZNAME:CEST
DTSTART:20240331T010000
END:DAYLIGHT
BEGIN:STANDARD
TZOFFSETFROM:+0200
TZOFFSETTO:+0100
TZNAME:CET
DTSTART:20241027T010000
END:STANDARD
BEGIN:DAYLIGHT
TZOFFSETFROM:+0100
TZOFFSETTO:+0200
TZNAME:CEST
DTSTART:20250330T010000
END:DAYLIGHT
BEGIN:STANDARD
TZOFFSETFROM:+0200
TZOFFSETTO:+0100
TZNAME:CET
DTSTART:20251026T010000
END:STANDARD
END:VTIMEZONE
BEGIN:VEVENT
DTSTART;TZID=Europe/Berlin:20240503T190000
DTEND;TZID=Europe/Berlin:20240503T190000
DTSTAMP:20260423T064608
CREATED:20240104T082847Z
LAST-MODIFIED:20240104T082847Z
UID:1032-1714762800-1714762800@kulturverein-moehnesee.de
SUMMARY:Liederabend „Immer wieder Frühling“
DESCRIPTION:„Immer wieder Frühling“ \nKonzert mit Nadja Dust – Sopran\nWendy Daelmann – Harfe\nOrt: Kleffmann-Haus \nEintritt frei\, Spende erwünscht
URL:https://kulturverein-moehnesee.de/event/liederabend-immer-wieder-fruehling/
LOCATION:Ludwig Kleffmann Haus\, Kirchplatz 8\, Möhnesee\, 59519
ORGANIZER;CN="Kulturverein M%C3%B6hnesee e.V.":MAILTO:info@kulturverein-moehnesee.de
END:VEVENT
END:VCALENDAR