BEGIN:VCALENDAR
VERSION:2.0
PRODID:-//Kulturverein Möhnesee e.V. - ECPv6.15.11//NONSGML v1.0//EN
CALSCALE:GREGORIAN
METHOD:PUBLISH
X-ORIGINAL-URL:https://kulturverein-moehnesee.de
X-WR-CALDESC:Veranstaltungen für Kulturverein Möhnesee e.V.
REFRESH-INTERVAL;VALUE=DURATION:PT1H
X-Robots-Tag:noindex
X-PUBLISHED-TTL:PT1H
BEGIN:VTIMEZONE
TZID:Europe/Berlin
BEGIN:DAYLIGHT
TZOFFSETFROM:+0100
TZOFFSETTO:+0200
TZNAME:CEST
DTSTART:20210328T010000
END:DAYLIGHT
BEGIN:STANDARD
TZOFFSETFROM:+0200
TZOFFSETTO:+0100
TZNAME:CET
DTSTART:20211031T010000
END:STANDARD
BEGIN:DAYLIGHT
TZOFFSETFROM:+0100
TZOFFSETTO:+0200
TZNAME:CEST
DTSTART:20220327T010000
END:DAYLIGHT
BEGIN:STANDARD
TZOFFSETFROM:+0200
TZOFFSETTO:+0100
TZNAME:CET
DTSTART:20221030T010000
END:STANDARD
BEGIN:DAYLIGHT
TZOFFSETFROM:+0100
TZOFFSETTO:+0200
TZNAME:CEST
DTSTART:20230326T010000
END:DAYLIGHT
BEGIN:STANDARD
TZOFFSETFROM:+0200
TZOFFSETTO:+0100
TZNAME:CET
DTSTART:20231029T010000
END:STANDARD
END:VTIMEZONE
BEGIN:VEVENT
DTSTART;TZID=Europe/Berlin:20221023T150000
DTEND;TZID=Europe/Berlin:20221023T160000
DTSTAMP:20260422T052429
CREATED:20220621T115746Z
LAST-MODIFIED:20221226T112606Z
UID:521-1666537200-1666540800@kulturverein-moehnesee.de
SUMMARY:Tanzgruppe ARIRANG
DESCRIPTION:Der Kulturverein Möhnesee e.V.  lädt zu einem Highlight am Sonntag\, 23.10.2022 von 15.00 bis 16.00 Uhr in das Ludwig–Kleffmann–Haus\, Körbecke ein. \nEs gastiert die Tanzgruppe ARIRANG.\nWer verbirgt sich dahinter?\nVon 1965 bis 1970 kamen koreanische Krankenschwestern zur Arbeit nach Deutschland. 1990 gründeten 11 von ihnen\, die überwiegend im Großraum Dortmund lebten\, die Tanzgruppe ARIRANG. Ziel war und ist es bis heute\, traditionellen koreanischen Tanz und damit koreanische Kultur zu leben und zu vermitteln. \n  \nDie Gruppe trifft sich einmal im Monat für ein Wochenende um zu proben. Das Erlernen der Tanzschritte und der Körperbewegungen erfordert viel Fleiß\, Körperbeherrschung\, Koordination und Kraft. Eine besondere Herausforderung ergibt sich durch das Tanzen als Gruppe\, da alle Tanzschritte und Bewegungen im Gleichklang  erfolgen müssen. \nDie zurzeit acht Frauen tanzen in farbenprächtigen Tanzkleidern. Es gibt unterschiedliche Tänze\, die sich jeweils einem Thema widmen. Darauf abgestimmt ist auch das gesamte Outfit der Tänzerinnen\, welches aus der Tradition heraus genau festgelegt ist. \nDie Künstlerinnen werden uns u.a. den Fächertanz\, den Trommeltanz sowie den Schamanentanz vorführen. Die Gruppenleitung obliegt Hae Sook Schäfer. \nDer Eintritt ist frei\, um eine Spende wird gebeten. \n \n  \n  \n  \nNACHBETRACHTUNG
URL:https://kulturverein-moehnesee.de/event/tanzgruppe-arirang/
LOCATION:Ludwig Kleffmann Haus\, Kirchplatz 8\, Möhnesee\, 59519
ATTACH;FMTTYPE=image/jpeg:https://kulturverein-moehnesee.de/wp-content/uploads/Faechertanz.jpg
ORGANIZER;CN="Kulturverein M%C3%B6hnesee e.V.":MAILTO:info@kulturverein-moehnesee.de
END:VEVENT
END:VCALENDAR