BEGIN:VCALENDAR
VERSION:2.0
PRODID:-//Kulturverein Möhnesee e.V. - ECPv6.15.11//NONSGML v1.0//EN
CALSCALE:GREGORIAN
METHOD:PUBLISH
X-ORIGINAL-URL:https://kulturverein-moehnesee.de
X-WR-CALDESC:Veranstaltungen für Kulturverein Möhnesee e.V.
REFRESH-INTERVAL;VALUE=DURATION:PT1H
X-Robots-Tag:noindex
X-PUBLISHED-TTL:PT1H
BEGIN:VTIMEZONE
TZID:Europe/Berlin
BEGIN:DAYLIGHT
TZOFFSETFROM:+0100
TZOFFSETTO:+0200
TZNAME:CEST
DTSTART:20250330T010000
END:DAYLIGHT
BEGIN:STANDARD
TZOFFSETFROM:+0200
TZOFFSETTO:+0100
TZNAME:CET
DTSTART:20251026T010000
END:STANDARD
BEGIN:DAYLIGHT
TZOFFSETFROM:+0100
TZOFFSETTO:+0200
TZNAME:CEST
DTSTART:20260329T010000
END:DAYLIGHT
BEGIN:STANDARD
TZOFFSETFROM:+0200
TZOFFSETTO:+0100
TZNAME:CET
DTSTART:20261025T010000
END:STANDARD
BEGIN:DAYLIGHT
TZOFFSETFROM:+0100
TZOFFSETTO:+0200
TZNAME:CEST
DTSTART:20270328T010000
END:DAYLIGHT
BEGIN:STANDARD
TZOFFSETFROM:+0200
TZOFFSETTO:+0100
TZNAME:CET
DTSTART:20271031T010000
END:STANDARD
END:VTIMEZONE
BEGIN:VEVENT
DTSTART;TZID=Europe/Berlin:20260120T190000
DTEND;TZID=Europe/Berlin:20260120T200000
DTSTAMP:20260422T003330
CREATED:20251213T150914Z
LAST-MODIFIED:20251213T150914Z
UID:1473-1768935600-1768939200@kulturverein-moehnesee.de
SUMMARY:Liebe - in Musik und Wort
DESCRIPTION:mit Bettina Buxot und Corinna Kickelbick (Gesang) \nsowie Marc Herting und Martin Buxot (Gitarre) \nKein Eintritt\, eine Spende ist willkommen
URL:https://kulturverein-moehnesee.de/event/liebe-in-musik-und-wort/
LOCATION:Altes Fachwerkhaus Stockebrand\, Küerbiker Str. 3\, Möhnesee\, 59519\, Deutschland
END:VEVENT
END:VCALENDAR